BEGIN:VCALENDAR
VERSION:2.0
PRODID:-//Freddie Justice | Planet&#039;s Funniest Hypnotist | 763.325.HAHA (4242) - ECPv6.15.20//NONSGML v1.0//EN
CALSCALE:GREGORIAN
METHOD:PUBLISH
X-WR-CALNAME:Freddie Justice | Planet&#039;s Funniest Hypnotist | 763.325.HAHA (4242)
X-ORIGINAL-URL:https://freddiejustice.com
X-WR-CALDESC:Events for Freddie Justice | Planet&#039;s Funniest Hypnotist | 763.325.HAHA (4242)
REFRESH-INTERVAL;VALUE=DURATION:PT1H
X-Robots-Tag:noindex
X-PUBLISHED-TTL:PT1H
BEGIN:VTIMEZONE
TZID:UTC
BEGIN:STANDARD
TZOFFSETFROM:+0000
TZOFFSETTO:+0000
TZNAME:UTC
DTSTART:20230101T000000
END:STANDARD
END:VTIMEZONE
BEGIN:VEVENT
DTSTART;TZID=UTC:20240505T000000
DTEND;TZID=UTC:20240505T010000
DTSTAMP:20260419T213255
CREATED:20231119T212843Z
LAST-MODIFIED:20231221T012905Z
UID:1230-1714867200-1714870800@freddiejustice.com
SUMMARY:POST PROM PARTY | KERKHOVEN\, MN
DESCRIPTION:
URL:https://freddiejustice.com/event/post-prom-party-kerkhoven-mn/
LOCATION:MN
END:VEVENT
BEGIN:VEVENT
DTSTART;TZID=UTC:20240517T230000
DTEND;TZID=UTC:20240518T000000
DTSTAMP:20260419T213255
CREATED:20231221T013335Z
LAST-MODIFIED:20231221T013335Z
UID:1295-1715986800-1715990400@freddiejustice.com
SUMMARY:SENIOR ALL NIGHT PARTY | MT. IRON\, MN
DESCRIPTION:
URL:https://freddiejustice.com/event/senior-all-night-party-mt-iron-mn/
LOCATION:MN
END:VEVENT
BEGIN:VEVENT
DTSTART;TZID=UTC:20240518T223000
DTEND;TZID=UTC:20240519T023000
DTSTAMP:20260419T213255
CREATED:20231221T013048Z
LAST-MODIFIED:20231221T013149Z
UID:1291-1716071400-1716085800@freddiejustice.com
SUMMARY:ALL NIGHT PARTY | LINTON\, ND
DESCRIPTION:
URL:https://freddiejustice.com/event/all-night-party-linton-nd/
LOCATION:MN
END:VEVENT
BEGIN:VEVENT
DTSTART;TZID=UTC:20240524T020000
DTEND;TZID=UTC:20240524T030000
DTSTAMP:20260419T213255
CREATED:20231119T213104Z
LAST-MODIFIED:20231221T012838Z
UID:1233-1716516000-1716519600@freddiejustice.com
SUMMARY:SENIOR ALL NIGHT PARTY | ALBANY\, MN
DESCRIPTION:
URL:https://freddiejustice.com/event/senior-all-night-party-albany-mn-2/
LOCATION:MN
END:VEVENT
BEGIN:VEVENT
DTSTART;TZID=UTC:20240531T101500
DTEND;TZID=UTC:20240601T020000
DTSTAMP:20260419T213255
CREATED:20231121T163052Z
LAST-MODIFIED:20231221T012816Z
UID:1250-1717150500-1717207200@freddiejustice.com
SUMMARY:SENIOR ALL NIGHT PARTY | WAYZATA\, MN
DESCRIPTION:
URL:https://freddiejustice.com/event/senior-all-night-party-wayzata-mn-2/
LOCATION:MN
END:VEVENT
END:VCALENDAR