BEGIN:VCALENDAR
VERSION:2.0
PRODID:-//Freddie Justice | Planet&#039;s Funniest Hypnotist | 763.325.HAHA (4242) - ECPv6.15.20//NONSGML v1.0//EN
CALSCALE:GREGORIAN
METHOD:PUBLISH
X-ORIGINAL-URL:https://freddiejustice.com
X-WR-CALDESC:Events for Freddie Justice | Planet&#039;s Funniest Hypnotist | 763.325.HAHA (4242)
REFRESH-INTERVAL;VALUE=DURATION:PT1H
X-Robots-Tag:noindex
X-PUBLISHED-TTL:PT1H
BEGIN:VTIMEZONE
TZID:UTC
BEGIN:STANDARD
TZOFFSETFROM:+0000
TZOFFSETTO:+0000
TZNAME:UTC
DTSTART:20230101T000000
END:STANDARD
END:VTIMEZONE
BEGIN:VEVENT
DTSTART;TZID=UTC:20240309T193000
DTEND;TZID=UTC:20240309T210000
DTSTAMP:20260419T183305
CREATED:20240302T181352Z
LAST-MODIFIED:20240302T181549Z
UID:1346-1710012600-1710018000@freddiejustice.com
SUMMARY:MEMBER EVENT | HUGO LIONS MEMBERS | HUGO\, MN
DESCRIPTION:
URL:https://freddiejustice.com/event/private-event-hugo-lions-members-hugo-mn/
LOCATION:MN
END:VEVENT
BEGIN:VEVENT
DTSTART;TZID=UTC:20240315T180000
DTEND;TZID=UTC:20240315T220000
DTSTAMP:20260419T183305
CREATED:20231119T033808Z
LAST-MODIFIED:20240210T164302Z
UID:1216-1710525600-1710540000@freddiejustice.com
SUMMARY:PUBLIC SHOW | COMEDY AT THE COURTYARDS | ANDOVER\, MN
DESCRIPTION:Comedy Night at Courtyards of Andover with Hypnotist Freddie Justice\nFriday\, March 15\, 2024 · 6 – 10:30pm CDT \nJoin us for a hilarious evening filled with laughter at the Courtyards of Andover! Get ready to be entertained by the talented comedian slash The Planet’s Funniest Hypnotist Freddie Justice. This in-person event promises to be a night of non-stop fun and entertainment and features Unique Dining‘s best buffet items! \nDon’t miss out on this fantastic opportunity to enjoy an evening of comedy with Freddie Justice. Grab your friends and come on over to the Courtyards of Andover for an unforgettable night! \n\n\n 
URL:https://freddiejustice.com/event/public-show-comedy-at-the-courtyards-andover-mn/
LOCATION:Courtyards of Andover\, 13545 Martin St. NW\, Andover\, MN\, 55304\, United States
END:VEVENT
BEGIN:VEVENT
DTSTART;TZID=UTC:20240316T190000
DTEND;TZID=UTC:20240316T203000
DTSTAMP:20260419T183305
CREATED:20240104T200549Z
LAST-MODIFIED:20240210T164446Z
UID:1304-1710615600-1710621000@freddiejustice.com
SUMMARY:PUBLIC SHOW | THE EVENT CENTER BY RICH CUISINE | FLOODWOOD\, MN
DESCRIPTION: 
URL:https://freddiejustice.com/event/public-show-the-event-center-floodwood-mn/
LOCATION:The Event Center\, 201 W. 7th AVe\, Floodwood\, MN\, 55736\, United States
END:VEVENT
BEGIN:VEVENT
DTSTART;TZID=UTC:20240322T190000
DTEND;TZID=UTC:20240322T203000
DTSTAMP:20260419T183305
CREATED:20231119T034132Z
LAST-MODIFIED:20240210T164527Z
UID:1222-1711134000-1711139400@freddiejustice.com
SUMMARY:PUBLIC SHOW | MONTICELLO HIGH SCHOOL THEATER | ELK RIVER\, MN
DESCRIPTION:Show is open to public\, all ages. Tickets handled directly through Monticello Community Education.\n\nNO dinner available at this show.
URL:https://freddiejustice.com/event/public-show-elk-river-high-school-theater-elk-river-mn-2/
LOCATION:Monticello High School Performing Arts Center\, 5225 School Blvd.\, Monticello\, MN\, 55362\, United States
ORGANIZER;CN="Monticello Community Theatre Program":MAILTO:barb.marquette@monticello.k12.mn.us
END:VEVENT
END:VCALENDAR