BEGIN:VCALENDAR
VERSION:2.0
PRODID:-//Freddie Justice | Planet&#039;s Funniest Hypnotist | 763.325.HAHA (4242) - ECPv6.15.20//NONSGML v1.0//EN
CALSCALE:GREGORIAN
METHOD:PUBLISH
X-WR-CALNAME:Freddie Justice | Planet&#039;s Funniest Hypnotist | 763.325.HAHA (4242)
X-ORIGINAL-URL:https://freddiejustice.com
X-WR-CALDESC:Events for Freddie Justice | Planet&#039;s Funniest Hypnotist | 763.325.HAHA (4242)
REFRESH-INTERVAL;VALUE=DURATION:PT1H
X-Robots-Tag:noindex
X-PUBLISHED-TTL:PT1H
BEGIN:VTIMEZONE
TZID:UTC
BEGIN:STANDARD
TZOFFSETFROM:+0000
TZOFFSETTO:+0000
TZNAME:UTC
DTSTART:20220101T000000
END:STANDARD
END:VTIMEZONE
BEGIN:VEVENT
DTSTART;VALUE=DATE:20230913
DTEND;VALUE=DATE:20230914
DTSTAMP:20260419T130504
CREATED:20230914T160741Z
LAST-MODIFIED:20230914T160741Z
UID:1159-1694563200-1694649599@freddiejustice.com
SUMMARY:PRIVATE CORPORATE EVENT | DULUTH\, MN
DESCRIPTION:
URL:https://freddiejustice.com/event/private-corporate-event-duluth-mn/
LOCATION:MN
END:VEVENT
BEGIN:VEVENT
DTSTART;VALUE=DATE:20230914
DTEND;VALUE=DATE:20230915
DTSTAMP:20260419T130504
CREATED:20230914T160805Z
LAST-MODIFIED:20230914T160805Z
UID:1161-1694649600-1694735999@freddiejustice.com
SUMMARY:PRIVATE CORPORATE EVENT | ST. CLOUD\, MN
DESCRIPTION:
URL:https://freddiejustice.com/event/private-corporate-event-st-cloud-mn/
LOCATION:MN
END:VEVENT
BEGIN:VEVENT
DTSTART;TZID=UTC:20230914T080000
DTEND;TZID=UTC:20230914T170000
DTSTAMP:20260419T130504
CREATED:20230914T161054Z
LAST-MODIFIED:20230914T161054Z
UID:1171-1694678400-1694710800@freddiejustice.com
SUMMARY:PRIVATE CORPORATE EVENT | BAYPORT\, MN
DESCRIPTION:
URL:https://freddiejustice.com/event/private-corporate-event-bayport-mn/
LOCATION:MN
END:VEVENT
BEGIN:VEVENT
DTSTART;VALUE=DATE:20230919
DTEND;VALUE=DATE:20230920
DTSTAMP:20260419T130504
CREATED:20230914T161404Z
LAST-MODIFIED:20230914T161404Z
UID:1179-1695081600-1695167999@freddiejustice.com
SUMMARY:PRIVATE CORPORATE EVENT | MADISON\, WI
DESCRIPTION:
URL:https://freddiejustice.com/event/private-corporate-event-madison-wi-2/
LOCATION:MN
END:VEVENT
BEGIN:VEVENT
DTSTART;VALUE=DATE:20230920
DTEND;VALUE=DATE:20230921
DTSTAMP:20260419T130504
CREATED:20230914T160846Z
LAST-MODIFIED:20230914T160846Z
UID:1163-1695168000-1695254399@freddiejustice.com
SUMMARY:PRIVATE CORPORATE EVENT | BALTIMORE\, MD
DESCRIPTION:
URL:https://freddiejustice.com/event/private-corporate-event-baltimore-md/
LOCATION:MN
END:VEVENT
BEGIN:VEVENT
DTSTART;VALUE=DATE:20230921
DTEND;VALUE=DATE:20230922
DTSTAMP:20260419T130504
CREATED:20230914T160925Z
LAST-MODIFIED:20230914T160925Z
UID:1165-1695254400-1695340799@freddiejustice.com
SUMMARY:PRIVATE CORPORATE EVENT | FOUNTAIN VALLEY\, CA
DESCRIPTION:
URL:https://freddiejustice.com/event/private-corporate-event-fountain-valley-ca/
LOCATION:MN
END:VEVENT
BEGIN:VEVENT
DTSTART;VALUE=DATE:20230923
DTEND;VALUE=DATE:20230924
DTSTAMP:20260419T130504
CREATED:20230914T160955Z
LAST-MODIFIED:20230914T160955Z
UID:1167-1695427200-1695513599@freddiejustice.com
SUMMARY:PRIVATE CONCERT EVENT | COLUMBUS\, MN
DESCRIPTION:
URL:https://freddiejustice.com/event/private-concert-event-columbus-mn/
LOCATION:MN
END:VEVENT
BEGIN:VEVENT
DTSTART;VALUE=DATE:20230924
DTEND;VALUE=DATE:20230925
DTSTAMP:20260419T130504
CREATED:20230914T161024Z
LAST-MODIFIED:20230914T161024Z
UID:1169-1695513600-1695599999@freddiejustice.com
SUMMARY:PRIVATE CORPORATE EVENT | PRIOR LAKE\, MN
DESCRIPTION:
URL:https://freddiejustice.com/event/private-corporate-event-prior-lake-mn/
LOCATION:MN
END:VEVENT
BEGIN:VEVENT
DTSTART;VALUE=DATE:20230927
DTEND;VALUE=DATE:20230928
DTSTAMP:20260419T130504
CREATED:20230914T161126Z
LAST-MODIFIED:20230914T161126Z
UID:1173-1695772800-1695859199@freddiejustice.com
SUMMARY:PRIVATE CORPORATE EVENT | CHICAGO\, IL
DESCRIPTION:
URL:https://freddiejustice.com/event/private-corporate-event-chicago-il/
LOCATION:MN
END:VEVENT
END:VCALENDAR