BEGIN:VCALENDAR
VERSION:2.0
PRODID:-//Freddie Justice | Planet&#039;s Funniest Hypnotist | 763.325.HAHA (4242) - ECPv6.15.20//NONSGML v1.0//EN
CALSCALE:GREGORIAN
METHOD:PUBLISH
X-WR-CALNAME:Freddie Justice | Planet&#039;s Funniest Hypnotist | 763.325.HAHA (4242)
X-ORIGINAL-URL:https://freddiejustice.com
X-WR-CALDESC:Events for Freddie Justice | Planet&#039;s Funniest Hypnotist | 763.325.HAHA (4242)
REFRESH-INTERVAL;VALUE=DURATION:PT1H
X-Robots-Tag:noindex
X-PUBLISHED-TTL:PT1H
BEGIN:VTIMEZONE
TZID:UTC
BEGIN:STANDARD
TZOFFSETFROM:+0000
TZOFFSETTO:+0000
TZNAME:UTC
DTSTART:20210101T000000
END:STANDARD
END:VTIMEZONE
BEGIN:VTIMEZONE
TZID:America/Chicago
BEGIN:DAYLIGHT
TZOFFSETFROM:-0600
TZOFFSETTO:-0500
TZNAME:CDT
DTSTART:20210314T080000
END:DAYLIGHT
BEGIN:STANDARD
TZOFFSETFROM:-0500
TZOFFSETTO:-0600
TZNAME:CST
DTSTART:20211107T070000
END:STANDARD
BEGIN:DAYLIGHT
TZOFFSETFROM:-0600
TZOFFSETTO:-0500
TZNAME:CDT
DTSTART:20220313T080000
END:DAYLIGHT
BEGIN:STANDARD
TZOFFSETFROM:-0500
TZOFFSETTO:-0600
TZNAME:CST
DTSTART:20221106T070000
END:STANDARD
BEGIN:DAYLIGHT
TZOFFSETFROM:-0600
TZOFFSETTO:-0500
TZNAME:CDT
DTSTART:20230312T080000
END:DAYLIGHT
BEGIN:STANDARD
TZOFFSETFROM:-0500
TZOFFSETTO:-0600
TZNAME:CST
DTSTART:20231105T070000
END:STANDARD
END:VTIMEZONE
BEGIN:VEVENT
DTSTART;VALUE=DATE:20230529
DTEND;VALUE=DATE:20230530
DTSTAMP:20260420T030553
CREATED:20230914T154608Z
LAST-MODIFIED:20230914T154608Z
UID:1091-1685318400-1685404799@freddiejustice.com
SUMMARY:SINIOR ALL NIGHT PARTY | MANDAN\, ND
DESCRIPTION:
URL:https://freddiejustice.com/event/sinior-all-night-party-mandan-nd/
END:VEVENT
BEGIN:VEVENT
DTSTART;VALUE=DATE:20230527
DTEND;VALUE=DATE:20230528
DTSTAMP:20260420T030553
CREATED:20230914T154543Z
LAST-MODIFIED:20230914T154543Z
UID:1089-1685145600-1685231999@freddiejustice.com
SUMMARY:SENIOR ALL NIGHT PARTY | ALBANY\, MN
DESCRIPTION:
URL:https://freddiejustice.com/event/senior-all-night-party-albany-mn/
END:VEVENT
BEGIN:VEVENT
DTSTART;VALUE=DATE:20230524
DTEND;VALUE=DATE:20230525
DTSTAMP:20260420T030553
CREATED:20230914T154459Z
LAST-MODIFIED:20230914T154459Z
UID:1087-1684886400-1684972799@freddiejustice.com
SUMMARY:PRIVATE CORPORATE EVENT | SALISBURY\, NC
DESCRIPTION:
URL:https://freddiejustice.com/event/private-corporate-event-salisbury-nc/
END:VEVENT
BEGIN:VEVENT
DTSTART;VALUE=DATE:20230523
DTEND;VALUE=DATE:20230524
DTSTAMP:20260420T030553
CREATED:20230914T154249Z
LAST-MODIFIED:20230914T154249Z
UID:1082-1684800000-1684886399@freddiejustice.com
SUMMARY:PRIVATE CORPORATE EVENT | SCHAUMBURG\, IL
DESCRIPTION:
URL:https://freddiejustice.com/event/private-corporate-event-schaumburg-il/
END:VEVENT
BEGIN:VEVENT
DTSTART;VALUE=DATE:20230519
DTEND;VALUE=DATE:20230520
DTSTAMP:20260420T030553
CREATED:20230914T154407Z
LAST-MODIFIED:20230914T154407Z
UID:1085-1684454400-1684540799@freddiejustice.com
SUMMARY:PRIVATE CORPORATE EVENT | INDINAPOLIS\, IN
DESCRIPTION:
URL:https://freddiejustice.com/event/private-corporate-event-indinapolis-in/
END:VEVENT
BEGIN:VEVENT
DTSTART;VALUE=DATE:20230516
DTEND;VALUE=DATE:20230517
DTSTAMP:20260420T030553
CREATED:20230914T154148Z
LAST-MODIFIED:20230914T154207Z
UID:1080-1684195200-1684281599@freddiejustice.com
SUMMARY:PRIVATE CORPORATE EVENT | STILLWATER\, MN
DESCRIPTION:
URL:https://freddiejustice.com/event/private-corporate-event-stillwater-mn/
END:VEVENT
BEGIN:VEVENT
DTSTART;VALUE=DATE:20230509
DTEND;VALUE=DATE:20230510
DTSTAMP:20260420T030553
CREATED:20230914T153052Z
LAST-MODIFIED:20230914T154317Z
UID:1074-1683590400-1683676799@freddiejustice.com
SUMMARY:PRIVATE EVENT | CHICAGO\, IL
DESCRIPTION:
URL:https://freddiejustice.com/event/private-event-chicago-il/
END:VEVENT
BEGIN:VEVENT
DTSTART;TZID=UTC:20230505T173000
DTEND;TZID=UTC:20230505T213000
DTSTAMP:20260420T030553
CREATED:20230914T154049Z
LAST-MODIFIED:20230914T154123Z
UID:1078-1683307800-1683322200@freddiejustice.com
SUMMARY:BREAKING THROUGH YOU! | ANDOVER\, MN
DESCRIPTION:https://www.facebook.com/events/1260789864512946/
URL:https://freddiejustice.com/event/breaking-through-you-andover-mn/
LOCATION:Courtyards of Andover\, 13545 Martin St. NW\, Andover\, MN\, 55304\, United States
END:VEVENT
BEGIN:VEVENT
DTSTART;VALUE=DATE:20230501
DTEND;VALUE=DATE:20230502
DTSTAMP:20260420T030553
CREATED:20230914T153136Z
LAST-MODIFIED:20230914T153136Z
UID:1076-1682899200-1682985599@freddiejustice.com
SUMMARY:PRIVATE CORPORATE EVENT | INDIANAPOLIS\, IN
DESCRIPTION:
URL:https://freddiejustice.com/event/private-corporate-event-indianapolis-in/
END:VEVENT
BEGIN:VEVENT
DTSTART;TZID=UTC:20220814T080000
DTEND;TZID=UTC:20220814T170000
DTSTAMP:20260420T030553
CREATED:20220613T210922Z
LAST-MODIFIED:20220613T210922Z
UID:1018-1660464000-1660496400@freddiejustice.com
SUMMARY:Stevens Co Fair
DESCRIPTION:
URL:https://freddiejustice.com/event/stevens-co-fair/
END:VEVENT
BEGIN:VEVENT
DTSTART;TZID=America/Chicago:20220813T170000
DTEND;TZID=America/Chicago:20220813T180000
DTSTAMP:20260420T030553
CREATED:20220613T200938Z
LAST-MODIFIED:20220613T200938Z
UID:1010-1660410000-1660413600@freddiejustice.com
SUMMARY:Dakota Co Fair
DESCRIPTION:
URL:https://freddiejustice.com/event/dakota-co-fair-3/
LOCATION:Dakota Co Fairgrounds\, 4008 220th St W\, Farmington\, MN\, 55024\, United States
ORGANIZER;CN="Freddie Justice":MAILTO:info@FreddieJustice.com
END:VEVENT
BEGIN:VEVENT
DTSTART;TZID=America/Chicago:20220813T133000
DTEND;TZID=America/Chicago:20220813T143000
DTSTAMP:20260420T030553
CREATED:20220613T200729Z
LAST-MODIFIED:20220613T200957Z
UID:1008-1660397400-1660401000@freddiejustice.com
SUMMARY:Dakota Co Fair
DESCRIPTION:
URL:https://freddiejustice.com/event/dakota-co-fair-2/
LOCATION:Dakota Co Fairgrounds\, 4008 220th St W\, Farmington\, MN\, 55024\, United States
ORGANIZER;CN="Freddie Justice":MAILTO:info@FreddieJustice.com
END:VEVENT
BEGIN:VEVENT
DTSTART;TZID=America/Chicago:20220812T170000
DTEND;TZID=America/Chicago:20220812T180000
DTSTAMP:20260420T030553
CREATED:20220613T200648Z
LAST-MODIFIED:20220613T201027Z
UID:1005-1660323600-1660327200@freddiejustice.com
SUMMARY:Dakota Co Fair
DESCRIPTION:
URL:https://freddiejustice.com/event/dakota-co-fair/
LOCATION:Dakota Co Fairgrounds\, 4008 220th St W\, Farmington\, MN\, 55024\, United States
ORGANIZER;CN="Freddie Justice":MAILTO:info@FreddieJustice.com
END:VEVENT
BEGIN:VEVENT
DTSTART;TZID=America/Chicago:20220811T200000
DTEND;TZID=America/Chicago:20220811T210000
DTSTAMP:20260420T030553
CREATED:20220613T200543Z
LAST-MODIFIED:20220613T203111Z
UID:1003-1660248000-1660251600@freddiejustice.com
SUMMARY:Kandiyohi Co Fair
DESCRIPTION:
URL:https://freddiejustice.com/event/kandiyohi-co-fair-4/
LOCATION:Kandiyohi Co Fairgrounds\, 899 7th St NW\, Willmar\, MN\, 56201\, United States
ORGANIZER;CN="Freddie Justice":MAILTO:info@FreddieJustice.com
END:VEVENT
BEGIN:VEVENT
DTSTART;TZID=America/Chicago:20220811T170000
DTEND;TZID=America/Chicago:20220811T180000
DTSTAMP:20260420T030553
CREATED:20220613T200505Z
LAST-MODIFIED:20220613T202522Z
UID:1000-1660237200-1660240800@freddiejustice.com
SUMMARY:Kandiyohi Co Fair
DESCRIPTION:
URL:https://freddiejustice.com/event/kandiyohi-co-fair-3/
LOCATION:Kandiyohi Co Fairgrounds\, 899 7th St NW\, Willmar\, MN\, 56201\, United States
ORGANIZER;CN="Freddie Justice":MAILTO:info@FreddieJustice.com
END:VEVENT
BEGIN:VEVENT
DTSTART;TZID=America/Chicago:20220810T200000
DTEND;TZID=America/Chicago:20220810T210000
DTSTAMP:20260420T030553
CREATED:20220613T200426Z
LAST-MODIFIED:20220613T202500Z
UID:998-1660161600-1660165200@freddiejustice.com
SUMMARY:Kandiyohi Co Fair
DESCRIPTION:
URL:https://freddiejustice.com/event/kandiyohi-co-fair-2/
LOCATION:Kandiyohi Co Fairgrounds\, 899 7th St NW\, Willmar\, MN\, 56201\, United States
ORGANIZER;CN="Freddie Justice":MAILTO:info@FreddieJustice.com
END:VEVENT
BEGIN:VEVENT
DTSTART;TZID=America/Chicago:20220810T173000
DTEND;TZID=America/Chicago:20220810T183000
DTSTAMP:20260420T030553
CREATED:20220613T045650Z
LAST-MODIFIED:20220613T202438Z
UID:995-1660152600-1660156200@freddiejustice.com
SUMMARY:Kandiyohi Co Fair
DESCRIPTION:
URL:https://freddiejustice.com/event/kandiyohi-co-fair/
LOCATION:Kandiyohi Co Fairgrounds\, 899 7th St NW\, Willmar\, MN\, 56201\, United States
ORGANIZER;CN="Freddie Justice":MAILTO:info@FreddieJustice.com
END:VEVENT
BEGIN:VEVENT
DTSTART;TZID=America/Chicago:20220804T143000
DTEND;TZID=America/Chicago:20220804T153000
DTSTAMP:20260420T030553
CREATED:20220613T045539Z
LAST-MODIFIED:20220613T202419Z
UID:993-1659623400-1659627000@freddiejustice.com
SUMMARY:Crow Wing Co Fair
DESCRIPTION:
URL:https://freddiejustice.com/event/crow-wing-co-fair-3/
LOCATION:Crow Wing Co Fairgrounds\, 2000 SE 13th St\, Brainerd\, MN\, 56401\, United States
ORGANIZER;CN="Freddie Justice":MAILTO:info@FreddieJustice.com
END:VEVENT
BEGIN:VEVENT
DTSTART;TZID=America/Chicago:20220804T123000
DTEND;TZID=America/Chicago:20220804T133000
DTSTAMP:20260420T030553
CREATED:20220613T045438Z
LAST-MODIFIED:20220613T202355Z
UID:991-1659616200-1659619800@freddiejustice.com
SUMMARY:Crow Wing Co Fair
DESCRIPTION:
URL:https://freddiejustice.com/event/crow-wing-co-fair-2/
LOCATION:Crow Wing Co Fairgrounds\, 2000 SE 13th St\, Brainerd\, MN\, 56401\, United States
ORGANIZER;CN="Freddie Justice":MAILTO:info@FreddieJustice.com
END:VEVENT
BEGIN:VEVENT
DTSTART;TZID=America/Chicago:20220802T160000
DTEND;TZID=America/Chicago:20220802T170000
DTSTAMP:20260420T030553
CREATED:20220613T045356Z
LAST-MODIFIED:20220613T202334Z
UID:987-1659456000-1659459600@freddiejustice.com
SUMMARY:Crow Wing Co Fair
DESCRIPTION:
URL:https://freddiejustice.com/event/crow-wing-co-fair/
LOCATION:Crow Wing Co Fairgrounds\, 2000 SE 13th St\, Brainerd\, MN\, 56401\, United States
ORGANIZER;CN="Freddie Justice":MAILTO:info@FreddieJustice.com
END:VEVENT
BEGIN:VEVENT
DTSTART;TZID=America/Chicago:20220730T203000
DTEND;TZID=America/Chicago:20220730T213000
DTSTAMP:20260420T030553
CREATED:20220613T202312Z
LAST-MODIFIED:20220613T202312Z
UID:1016-1659213000-1659216600@freddiejustice.com
SUMMARY:Lincoln Co Fair
DESCRIPTION:
URL:https://freddiejustice.com/event/lincoln-co-fair-2/
LOCATION:Lincoln Co Fair\, 1187 Co. Hwy 7 Tyler\, MN 56178\, Tyler\, MN\, 56178\, United States
ORGANIZER;CN="Freddie Justice":MAILTO:info@FreddieJustice.com
END:VEVENT
BEGIN:VEVENT
DTSTART;TZID=America/Chicago:20220730T190000
DTEND;TZID=America/Chicago:20220730T200000
DTSTAMP:20260420T030553
CREATED:20220613T045141Z
LAST-MODIFIED:20220613T202145Z
UID:985-1659207600-1659211200@freddiejustice.com
SUMMARY:Lincoln Co Fair
DESCRIPTION:
URL:https://freddiejustice.com/event/lincoln-co-fair/
LOCATION:Lincoln Co Fair\, 1187 Co. Hwy 7 Tyler\, MN 56178\, Tyler\, MN\, 56178\, United States
ORGANIZER;CN="Freddie Justice":MAILTO:info@FreddieJustice.com
END:VEVENT
BEGIN:VEVENT
DTSTART;TZID=America/Chicago:20220729T180000
DTEND;TZID=America/Chicago:20220729T190000
DTSTAMP:20260420T030553
CREATED:20220613T045107Z
LAST-MODIFIED:20220724T195212Z
UID:983-1659117600-1659121200@freddiejustice.com
SUMMARY:Faribault Co Fair
DESCRIPTION:
URL:https://freddiejustice.com/event/faribault-co-fair-2/
LOCATION:Faribault Co Fairgrounds\, 235 Midway Rd\, Blue Earth\, MN\, 56013\, United States
ORGANIZER;CN="Freddie Justice":MAILTO:info@FreddieJustice.com
END:VEVENT
BEGIN:VEVENT
DTSTART;TZID=America/Chicago:20220729T150000
DTEND;TZID=America/Chicago:20220729T160000
DTSTAMP:20260420T030553
CREATED:20220613T045015Z
LAST-MODIFIED:20220724T195223Z
UID:980-1659106800-1659110400@freddiejustice.com
SUMMARY:Faribault Co Fair
DESCRIPTION:
URL:https://freddiejustice.com/event/faribault-co-fair/
LOCATION:Faribault Co Fairgrounds\, 235 Midway Rd\, Blue Earth\, MN\, 56013\, United States
ORGANIZER;CN="Freddie Justice":MAILTO:info@FreddieJustice.com
END:VEVENT
BEGIN:VEVENT
DTSTART;TZID=America/Chicago:20220728T190000
DTEND;TZID=America/Chicago:20220728T200000
DTSTAMP:20260420T030553
CREATED:20220613T044925Z
LAST-MODIFIED:20220613T201207Z
UID:978-1659034800-1659038400@freddiejustice.com
SUMMARY:Jackson Co Fair
DESCRIPTION:
URL:https://freddiejustice.com/event/jackson-co-fair-3/
LOCATION:Jackson Co Fairgrounds\, 78748 550th Ave\, Jackson\, MN\, 56143\, United States
ORGANIZER;CN="Freddie Justice":MAILTO:info@FreddieJustice.com
END:VEVENT
BEGIN:VEVENT
DTSTART;TZID=America/Chicago:20220728T170000
DTEND;TZID=America/Chicago:20220728T180000
DTSTAMP:20260420T030553
CREATED:20220613T044844Z
LAST-MODIFIED:20220613T201148Z
UID:976-1659027600-1659031200@freddiejustice.com
SUMMARY:Jackson Co Fair
DESCRIPTION:
URL:https://freddiejustice.com/event/jackson-co-fair-2/
LOCATION:Jackson Co Fairgrounds\, 78748 550th Ave\, Jackson\, MN\, 56143\, United States
ORGANIZER;CN="Freddie Justice":MAILTO:info@FreddieJustice.com
END:VEVENT
BEGIN:VEVENT
DTSTART;TZID=America/Chicago:20220728T140000
DTEND;TZID=America/Chicago:20220728T150000
DTSTAMP:20260420T030553
CREATED:20220613T044810Z
LAST-MODIFIED:20220613T201127Z
UID:973-1659016800-1659020400@freddiejustice.com
SUMMARY:Jackson Co Fair
DESCRIPTION:
URL:https://freddiejustice.com/event/jackson-co-fair/
LOCATION:Jackson Co Fairgrounds\, 78748 550th Ave\, Jackson\, MN\, 56143\, United States
ORGANIZER;CN="Freddie Justice":MAILTO:info@FreddieJustice.com
END:VEVENT
BEGIN:VEVENT
DTSTART;TZID=America/Chicago:20220721T180000
DTEND;TZID=America/Chicago:20220721T190000
DTSTAMP:20260420T030553
CREATED:20220613T042154Z
LAST-MODIFIED:20220613T044637Z
UID:967-1658426400-1658430000@freddiejustice.com
SUMMARY:Yellow Medicine Co Fair
DESCRIPTION:
URL:https://freddiejustice.com/event/yellow-medicine-co-fair/
LOCATION:Yellow Medicine Co Fairgrounds\, 405 Fairgrounds Rd W\, Canby\, MN\, 56220\, United States
END:VEVENT
BEGIN:VEVENT
DTSTART;TZID=America/Chicago:20220717T150000
DTEND;TZID=America/Chicago:20220717T160000
DTSTAMP:20260420T030553
CREATED:20220613T040450Z
LAST-MODIFIED:20220613T043010Z
UID:965-1658070000-1658073600@freddiejustice.com
SUMMARY:Sherburne Co Fair
DESCRIPTION:
URL:https://freddiejustice.com/event/sherburne-co-fair-2/
LOCATION:Sherburne Co Fairgrounds\, 18335 Joplin St NW\, Elk River\, MN\, 55330\, United States
END:VEVENT
BEGIN:VEVENT
DTSTART;TZID=America/Chicago:20220716T130000
DTEND;TZID=America/Chicago:20220716T140000
DTSTAMP:20260420T030553
CREATED:20220613T040402Z
LAST-MODIFIED:20220613T042952Z
UID:962-1657976400-1657980000@freddiejustice.com
SUMMARY:Sherburne Co Fair
DESCRIPTION:
URL:https://freddiejustice.com/event/sherburne-co-fair/
LOCATION:Sherburne Co Fairgrounds\, 18335 Joplin St NW\, Elk River\, MN\, 55330\, United States
END:VEVENT
END:VCALENDAR