BEGIN:VCALENDAR
VERSION:2.0
PRODID:-//Freddie Justice | Planet&#039;s Funniest Hypnotist | 763.325.HAHA (4242) - ECPv6.15.20//NONSGML v1.0//EN
CALSCALE:GREGORIAN
METHOD:PUBLISH
X-ORIGINAL-URL:https://freddiejustice.com
X-WR-CALDESC:Events for Freddie Justice | Planet&#039;s Funniest Hypnotist | 763.325.HAHA (4242)
REFRESH-INTERVAL;VALUE=DURATION:PT1H
X-Robots-Tag:noindex
X-PUBLISHED-TTL:PT1H
BEGIN:VTIMEZONE
TZID:UTC
BEGIN:STANDARD
TZOFFSETFROM:+0000
TZOFFSETTO:+0000
TZNAME:UTC
DTSTART:20230101T000000
END:STANDARD
END:VTIMEZONE
BEGIN:VEVENT
DTSTART;TZID=UTC:20240606T033000
DTEND;TZID=UTC:20240606T043000
DTSTAMP:20260419T201823
CREATED:20231121T163149Z
LAST-MODIFIED:20231221T012754Z
UID:1252-1717644600-1717648200@freddiejustice.com
SUMMARY:SENIOR ALL NIGHT PARTY | ROGERS\, MN
DESCRIPTION:
URL:https://freddiejustice.com/event/senior-all-night-party-rogers-mn-2/
END:VEVENT
BEGIN:VEVENT
DTSTART;TZID=UTC:20240607T020000
DTEND;TZID=UTC:20240607T030000
DTSTAMP:20260419T201823
CREATED:20231121T163248Z
LAST-MODIFIED:20231121T172022Z
UID:1254-1717725600-1717729200@freddiejustice.com
SUMMARY:SENIOR ALL NIGHT PARTY | FOREST LAKE\, MN
DESCRIPTION:
URL:https://freddiejustice.com/event/senior-all-night-party-forest-lake-mn-2/
END:VEVENT
BEGIN:VEVENT
DTSTART;TZID=UTC:20240608T013000
DTEND;TZID=UTC:20240608T023000
DTSTAMP:20260419T201823
CREATED:20231121T163342Z
LAST-MODIFIED:20231121T171956Z
UID:1257-1717810200-1717813800@freddiejustice.com
SUMMARY:SENIOR ALL NIGHT PARTY | SPRING LAKE PARK\, MN
DESCRIPTION:
URL:https://freddiejustice.com/event/senior-all-night-party-spring-lake-park-mn-2/
END:VEVENT
BEGIN:VEVENT
DTSTART;VALUE=DATE:20240725
DTEND;VALUE=DATE:20240726
DTSTAMP:20260419T201823
CREATED:20231121T163934Z
LAST-MODIFIED:20231121T171922Z
UID:1259-1721865600-1721951999@freddiejustice.com
SUMMARY:PUBLIC SHOW | JACKSON CO FAIR | JACKSON\, MN
DESCRIPTION:3 shows\, times pending
URL:https://freddiejustice.com/event/jackson-co-fair-4/
LOCATION:Jackson Co Fairgrounds\, 78748 550th Ave\, Jackson\, MN\, 56143\, United States
END:VEVENT
BEGIN:VEVENT
DTSTART;VALUE=DATE:20240811
DTEND;VALUE=DATE:20240812
DTSTAMP:20260419T201823
CREATED:20231121T171658Z
LAST-MODIFIED:20231121T171852Z
UID:1263-1723334400-1723420799@freddiejustice.com
SUMMARY:PUBLIC SHOW | STEVENS CO FAIR | MORRIS\, MN
DESCRIPTION:2 shows\, times pending
URL:https://freddiejustice.com/event/stevens-co-fair-morris-mn-2/
END:VEVENT
BEGIN:VEVENT
DTSTART;TZID=UTC:20250314T180000
DTEND;TZID=UTC:20250314T220000
DTSTAMP:20260419T201823
CREATED:20250122T231950Z
LAST-MODIFIED:20250122T231950Z
UID:1371-1741975200-1741989600@freddiejustice.com
SUMMARY:PUBLIC SHOW | COMEDY AT THE COURTYARDS | ANDOVER\, MN
DESCRIPTION:Dinner & Show\n\nFull Tables are closest\, half tables next\, GA fill in spot and back.  Since you found this on my website\, use the discount code FREDDIE25 for an exclusive discount on GA and half tables. Full tables discount maxed out already.\n\nYou can go to QR code\, the link below or TO SAVE EVEN MORE CALL AND SAVE THE EVENTBRITE FEES (763) 754-6953. MAKE SURE YOU GIVE THEM THE SPECIAL CODE FOR A DISCOUNT!
URL:https://freddiejustice.com/event/public-show-comedy-at-the-courtyards-andover-mn-2/
LOCATION:Courtyards of Andover\, 13545 Martin St. NW\, Andover\, MN\, 55304\, United States
END:VEVENT
END:VCALENDAR