BEGIN:VCALENDAR
VERSION:2.0
PRODID:-//Freddie Justice | Planet&#039;s Funniest Hypnotist | 763.325.HAHA (4242) - ECPv6.15.20//NONSGML v1.0//EN
CALSCALE:GREGORIAN
METHOD:PUBLISH
X-WR-CALNAME:Freddie Justice | Planet&#039;s Funniest Hypnotist | 763.325.HAHA (4242)
X-ORIGINAL-URL:https://freddiejustice.com
X-WR-CALDESC:Events for Freddie Justice | Planet&#039;s Funniest Hypnotist | 763.325.HAHA (4242)
REFRESH-INTERVAL;VALUE=DURATION:PT1H
X-Robots-Tag:noindex
X-PUBLISHED-TTL:PT1H
BEGIN:VTIMEZONE
TZID:UTC
BEGIN:STANDARD
TZOFFSETFROM:+0000
TZOFFSETTO:+0000
TZNAME:UTC
DTSTART:20220101T000000
END:STANDARD
END:VTIMEZONE
BEGIN:VEVENT
DTSTART;VALUE=DATE:20230823
DTEND;VALUE=DATE:20230824
DTSTAMP:20260420T023150
CREATED:20230914T160503Z
LAST-MODIFIED:20230914T160503Z
UID:1155-1692748800-1692835199@freddiejustice.com
SUMMARY:PRIVATE CORPORATE EVENT | MINNEAPOLIS\, MN
DESCRIPTION:
URL:https://freddiejustice.com/event/private-corporate-event-minneapolis-mn/
END:VEVENT
BEGIN:VEVENT
DTSTART;VALUE=DATE:20230813
DTEND;VALUE=DATE:20230814
DTSTAMP:20260420T023150
CREATED:20230914T160426Z
LAST-MODIFIED:20230914T160426Z
UID:1153-1691884800-1691971199@freddiejustice.com
SUMMARY:STEVENS CO FAIR | MORRIS\, MN
DESCRIPTION:
URL:https://freddiejustice.com/event/stevens-co-fair-morris-mn/
END:VEVENT
BEGIN:VEVENT
DTSTART;VALUE=DATE:20230812
DTEND;VALUE=DATE:20230813
DTSTAMP:20260420T023150
CREATED:20230914T160406Z
LAST-MODIFIED:20230914T160406Z
UID:1151-1691798400-1691884799@freddiejustice.com
SUMMARY:DAKOTA CO FAIR | FARMINGTON\, MN
DESCRIPTION:
URL:https://freddiejustice.com/event/dakota-co-fair-farmington-mn-2/
END:VEVENT
BEGIN:VEVENT
DTSTART;VALUE=DATE:20230811
DTEND;VALUE=DATE:20230812
DTSTAMP:20260420T023150
CREATED:20230914T160341Z
LAST-MODIFIED:20230914T160341Z
UID:1149-1691712000-1691798399@freddiejustice.com
SUMMARY:DAKOTA CO FAIR | FARMINGTON\, MN
DESCRIPTION:
URL:https://freddiejustice.com/event/dakota-co-fair-farmington-mn/
END:VEVENT
BEGIN:VEVENT
DTSTART;VALUE=DATE:20230810
DTEND;VALUE=DATE:20230811
DTSTAMP:20260420T023150
CREATED:20230914T160310Z
LAST-MODIFIED:20230914T160310Z
UID:1147-1691625600-1691711999@freddiejustice.com
SUMMARY:KANDIYOHI CO FAIR | WILMAR\, MN
DESCRIPTION:
URL:https://freddiejustice.com/event/kandiyohi-co-fair-wilmar-mn-2/
END:VEVENT
BEGIN:VEVENT
DTSTART;VALUE=DATE:20230809
DTEND;VALUE=DATE:20230810
DTSTAMP:20260420T023150
CREATED:20230914T160256Z
LAST-MODIFIED:20230914T160256Z
UID:1145-1691539200-1691625599@freddiejustice.com
SUMMARY:KANDIYOHI CO FAIR | WILMAR\, MN
DESCRIPTION:
URL:https://freddiejustice.com/event/kandiyohi-co-fair-wilmar-mn/
END:VEVENT
BEGIN:VEVENT
DTSTART;VALUE=DATE:20230808
DTEND;VALUE=DATE:20230809
DTSTAMP:20260420T023150
CREATED:20230914T160225Z
LAST-MODIFIED:20230914T160225Z
UID:1143-1691452800-1691539199@freddiejustice.com
SUMMARY:PRIVATE CORPORATE EVENT | EAGAN\, MN
DESCRIPTION:
URL:https://freddiejustice.com/event/private-corporate-event-eagan-mn/
END:VEVENT
BEGIN:VEVENT
DTSTART;VALUE=DATE:20230804
DTEND;VALUE=DATE:20230805
DTSTAMP:20260420T023150
CREATED:20230914T160143Z
LAST-MODIFIED:20230914T160143Z
UID:1141-1691107200-1691193599@freddiejustice.com
SUMMARY:MEEKER CO FAIR | LITCHFIELD\, MN
DESCRIPTION:
URL:https://freddiejustice.com/event/meeker-co-fair-litchfield-mn/
END:VEVENT
BEGIN:VEVENT
DTSTART;VALUE=DATE:20230802
DTEND;VALUE=DATE:20230803
DTSTAMP:20260420T023150
CREATED:20230914T160114Z
LAST-MODIFIED:20230914T160114Z
UID:1139-1690934400-1691020799@freddiejustice.com
SUMMARY:PRIVATE CORPORATE EVENT | ANDOVER\, MN
DESCRIPTION:
URL:https://freddiejustice.com/event/private-corporate-event-andover-mn/
END:VEVENT
BEGIN:VEVENT
DTSTART;VALUE=DATE:20230727
DTEND;VALUE=DATE:20230728
DTSTAMP:20260420T023150
CREATED:20230914T160036Z
LAST-MODIFIED:20230914T160036Z
UID:1137-1690416000-1690502399@freddiejustice.com
SUMMARY:JACKSON CO FAIR | JACKSON\, MN
DESCRIPTION:
URL:https://freddiejustice.com/event/jackson-co-fair-jackson-mn/
END:VEVENT
BEGIN:VEVENT
DTSTART;VALUE=DATE:20230722
DTEND;VALUE=DATE:20230723
DTSTAMP:20260420T023150
CREATED:20230914T160001Z
LAST-MODIFIED:20230914T160001Z
UID:1135-1689984000-1690070399@freddiejustice.com
SUMMARY:WEST OTTER TAIL CO FAIR | FERGUS FALLS\, MN
DESCRIPTION:
URL:https://freddiejustice.com/event/west-otter-tail-co-fair-fergus-falls-mn-2/
END:VEVENT
BEGIN:VEVENT
DTSTART;VALUE=DATE:20230721
DTEND;VALUE=DATE:20230722
DTSTAMP:20260420T023150
CREATED:20230914T155936Z
LAST-MODIFIED:20230914T155936Z
UID:1133-1689897600-1689983999@freddiejustice.com
SUMMARY:WEST OTTER TAIL CO FAIR | FERGUS FALLS\, MN
DESCRIPTION:
URL:https://freddiejustice.com/event/west-otter-tail-co-fair-fergus-falls-mn/
END:VEVENT
BEGIN:VEVENT
DTSTART;VALUE=DATE:20230718
DTEND;VALUE=DATE:20230719
DTSTAMP:20260420T023150
CREATED:20230914T155837Z
LAST-MODIFIED:20230914T155837Z
UID:1131-1689638400-1689724799@freddiejustice.com
SUMMARY:PRIVATE CORPORATE EVENT | MARSHALLTOWN\, IA
DESCRIPTION:
URL:https://freddiejustice.com/event/private-corporate-event-marshalltown-ia/
END:VEVENT
BEGIN:VEVENT
DTSTART;VALUE=DATE:20230712
DTEND;VALUE=DATE:20230713
DTSTAMP:20260420T023150
CREATED:20230914T155803Z
LAST-MODIFIED:20230914T155803Z
UID:1129-1689120000-1689206399@freddiejustice.com
SUMMARY:PRIVATE CORPORATE EVENT | MADISON\, WI
DESCRIPTION:
URL:https://freddiejustice.com/event/private-corporate-event-madison-wi/
END:VEVENT
BEGIN:VEVENT
DTSTART;VALUE=DATE:20230628
DTEND;VALUE=DATE:20230629
DTSTAMP:20260420T023150
CREATED:20230914T155709Z
LAST-MODIFIED:20230914T155709Z
UID:1127-1687910400-1687996799@freddiejustice.com
SUMMARY:PRIVATE CORPORATE EVENT | THREE OAKS\, MI
DESCRIPTION:
URL:https://freddiejustice.com/event/private-corporate-event-three-oaks-mi/
END:VEVENT
BEGIN:VEVENT
DTSTART;VALUE=DATE:20230624
DTEND;VALUE=DATE:20230625
DTSTAMP:20260420T023150
CREATED:20230914T155634Z
LAST-MODIFIED:20230914T155634Z
UID:1125-1687564800-1687651199@freddiejustice.com
SUMMARY:NORMAN CO FAIR | ADA\, MN
DESCRIPTION:
URL:https://freddiejustice.com/event/norman-co-fair-ada-mn/
END:VEVENT
BEGIN:VEVENT
DTSTART;VALUE=DATE:20230621
DTEND;VALUE=DATE:20230622
DTSTAMP:20260420T023150
CREATED:20230914T155550Z
LAST-MODIFIED:20230914T155550Z
UID:1123-1687305600-1687391999@freddiejustice.com
SUMMARY:PRIVATE CORPORATE EVENT | DETROIT\, MI
DESCRIPTION:
URL:https://freddiejustice.com/event/private-corporate-event-detroit-mi/
END:VEVENT
BEGIN:VEVENT
DTSTART;VALUE=DATE:20230614
DTEND;VALUE=DATE:20230615
DTSTAMP:20260420T023150
CREATED:20230914T155515Z
LAST-MODIFIED:20230914T155515Z
UID:1121-1686700800-1686787199@freddiejustice.com
SUMMARY:PRIVATE CORPORATE EVENT | MOUNDS VIEW\, MN
DESCRIPTION:
URL:https://freddiejustice.com/event/private-corporate-event-mounds-view-mn/
END:VEVENT
BEGIN:VEVENT
DTSTART;VALUE=DATE:20230613
DTEND;VALUE=DATE:20230614
DTSTAMP:20260420T023150
CREATED:20230914T155446Z
LAST-MODIFIED:20230914T155446Z
UID:1119-1686614400-1686700799@freddiejustice.com
SUMMARY:PRIVATE CORPORATE EVENT | BIRMINGHAM\, MI
DESCRIPTION:
URL:https://freddiejustice.com/event/private-corporate-event-birmingham-mi/
END:VEVENT
BEGIN:VEVENT
DTSTART;VALUE=DATE:20230612
DTEND;VALUE=DATE:20230613
DTSTAMP:20260420T023150
CREATED:20230914T155358Z
LAST-MODIFIED:20230914T155358Z
UID:1117-1686528000-1686614399@freddiejustice.com
SUMMARY:SENIOR ALL NIGHT PARTY | MAPLE GROVE\, MN
DESCRIPTION:
URL:https://freddiejustice.com/event/senior-all-night-party-maple-grove-mn/
END:VEVENT
BEGIN:VEVENT
DTSTART;TZID=UTC:20230611T080000
DTEND;TZID=UTC:20230611T110000
DTSTAMP:20260420T023150
CREATED:20230914T155232Z
LAST-MODIFIED:20230914T155232Z
UID:1113-1686470400-1686481200@freddiejustice.com
SUMMARY:SPEAKING EVENT | MPPOA CONFERENCE | ALEXANDRIA\, MN
DESCRIPTION:
URL:https://freddiejustice.com/event/speaking-event-mppoa-conference-alexandria-mn/
END:VEVENT
BEGIN:VEVENT
DTSTART;TZID=UTC:20230610T190000
DTEND;TZID=UTC:20230610T230000
DTSTAMP:20260420T023150
CREATED:20230914T155310Z
LAST-MODIFIED:20230914T155310Z
UID:1115-1686423600-1686438000@freddiejustice.com
SUMMARY:MASTER OF CERMONIES | MPPOA CONFERENCE | ALEXANDRIA\, MN
DESCRIPTION:
URL:https://freddiejustice.com/event/master-of-cermonies-mppoa-conference-alexandria-mn/
END:VEVENT
BEGIN:VEVENT
DTSTART;VALUE=DATE:20230610
DTEND;VALUE=DATE:20230611
DTSTAMP:20260420T023150
CREATED:20230914T155138Z
LAST-MODIFIED:20230914T155138Z
UID:1111-1686355200-1686441599@freddiejustice.com
SUMMARY:SENIOR ALL NIGHT PARTY | SPRING LAKE PARK\, MN
DESCRIPTION:
URL:https://freddiejustice.com/event/senior-all-night-party-spring-lake-park-mn/
END:VEVENT
BEGIN:VEVENT
DTSTART;VALUE=DATE:20230609
DTEND;VALUE=DATE:20230610
DTSTAMP:20260420T023150
CREATED:20230914T155115Z
LAST-MODIFIED:20230914T155115Z
UID:1109-1686268800-1686355199@freddiejustice.com
SUMMARY:SENIOR ALL NIGHT PARTY | FOREST LAKE\, MN
DESCRIPTION:
URL:https://freddiejustice.com/event/senior-all-night-party-forest-lake-mn/
END:VEVENT
BEGIN:VEVENT
DTSTART;VALUE=DATE:20230609
DTEND;VALUE=DATE:20230610
DTSTAMP:20260420T023150
CREATED:20230914T155046Z
LAST-MODIFIED:20230914T155046Z
UID:1107-1686268800-1686355199@freddiejustice.com
SUMMARY:SENIOR ALL NIGHT PARTY | ROGERS\, MN
DESCRIPTION:
URL:https://freddiejustice.com/event/senior-all-night-party-rogers-mn/
END:VEVENT
BEGIN:VEVENT
DTSTART;VALUE=DATE:20230609
DTEND;VALUE=DATE:20230610
DTSTAMP:20260420T023150
CREATED:20230914T155016Z
LAST-MODIFIED:20230914T155016Z
UID:1105-1686268800-1686355199@freddiejustice.com
SUMMARY:SENIOR ALL NIGHT PARTY | ORONO\, MN
DESCRIPTION:
URL:https://freddiejustice.com/event/senior-all-night-party-orono-mn/
END:VEVENT
BEGIN:VEVENT
DTSTART;VALUE=DATE:20230606
DTEND;VALUE=DATE:20230607
DTSTAMP:20260420T023150
CREATED:20230914T154935Z
LAST-MODIFIED:20230914T154950Z
UID:1103-1686009600-1686095999@freddiejustice.com
SUMMARY:SENIOR ALL NIGHT PARTY | ANOKA\, MN
DESCRIPTION:
URL:https://freddiejustice.com/event/senior-all-night-party-anoka-mn/
END:VEVENT
BEGIN:VEVENT
DTSTART;TZID=UTC:20230604T163000
DTEND;TZID=UTC:20230604T173000
DTSTAMP:20260420T023150
CREATED:20230914T154726Z
LAST-MODIFIED:20230914T154817Z
UID:1095-1685896200-1685899800@freddiejustice.com
SUMMARY:MORRISTOWN DAM DAYS | MORRISTOWN\, MN
DESCRIPTION:
URL:https://freddiejustice.com/event/morristown-dam-days-morristown-mn/
END:VEVENT
BEGIN:VEVENT
DTSTART;VALUE=DATE:20230604
DTEND;VALUE=DATE:20230605
DTSTAMP:20260420T023150
CREATED:20230914T154910Z
LAST-MODIFIED:20230914T154910Z
UID:1101-1685836800-1685923199@freddiejustice.com
SUMMARY:SENIOR ALL NIGHT PARTY | RUSH CITY\, MN
DESCRIPTION:
URL:https://freddiejustice.com/event/senior-all-night-party-rush-city-mn/
END:VEVENT
BEGIN:VEVENT
DTSTART;VALUE=DATE:20230604
DTEND;VALUE=DATE:20230605
DTSTAMP:20260420T023150
CREATED:20230914T154849Z
LAST-MODIFIED:20230914T154849Z
UID:1099-1685836800-1685923199@freddiejustice.com
SUMMARY:SENIOR ALL NIGHT PARTY | BLAINE\, MN
DESCRIPTION:
URL:https://freddiejustice.com/event/senior-all-night-party-blaine-mn/
END:VEVENT
END:VCALENDAR