BEGIN:VCALENDAR
VERSION:2.0
PRODID:-//Freddie Justice | Planet&#039;s Funniest Hypnotist | 763.325.HAHA (4242) - ECPv6.15.20//NONSGML v1.0//EN
CALSCALE:GREGORIAN
METHOD:PUBLISH
X-ORIGINAL-URL:https://freddiejustice.com
X-WR-CALDESC:Events for Freddie Justice | Planet&#039;s Funniest Hypnotist | 763.325.HAHA (4242)
REFRESH-INTERVAL;VALUE=DURATION:PT1H
X-Robots-Tag:noindex
X-PUBLISHED-TTL:PT1H
BEGIN:VTIMEZONE
TZID:UTC
BEGIN:STANDARD
TZOFFSETFROM:+0000
TZOFFSETTO:+0000
TZNAME:UTC
DTSTART:20230101T000000
END:STANDARD
END:VTIMEZONE
BEGIN:VEVENT
DTSTART;TZID=UTC:20240421T010000
DTEND;TZID=UTC:20240421T020000
DTSTAMP:20260419T213554
CREATED:20231119T212623Z
LAST-MODIFIED:20231221T012956Z
UID:1224-1713661200-1713664800@freddiejustice.com
SUMMARY:POST PROM PARTY | HANKINSON\, ND
DESCRIPTION:
URL:https://freddiejustice.com/event/post-prom-party-hankinson-nd/
LOCATION:MN
END:VEVENT
END:VCALENDAR