BEGIN:VCALENDAR
VERSION:2.0
PRODID:-//Freddie Justice | Planet&#039;s Funniest Hypnotist | 763.325.HAHA (4242) - ECPv6.15.20//NONSGML v1.0//EN
CALSCALE:GREGORIAN
METHOD:PUBLISH
X-WR-CALNAME:Freddie Justice | Planet&#039;s Funniest Hypnotist | 763.325.HAHA (4242)
X-ORIGINAL-URL:https://freddiejustice.com
X-WR-CALDESC:Events for Freddie Justice | Planet&#039;s Funniest Hypnotist | 763.325.HAHA (4242)
REFRESH-INTERVAL;VALUE=DURATION:PT1H
X-Robots-Tag:noindex
X-PUBLISHED-TTL:PT1H
BEGIN:VTIMEZONE
TZID:UTC
BEGIN:STANDARD
TZOFFSETFROM:+0000
TZOFFSETTO:+0000
TZNAME:UTC
DTSTART:20230101T000000
END:STANDARD
END:VTIMEZONE
BEGIN:VEVENT
DTSTART;VALUE=DATE:20240113
DTEND;VALUE=DATE:20240114
DTSTAMP:20260419T165116
CREATED:20231119T034016Z
LAST-MODIFIED:20231119T034016Z
UID:1220-1705104000-1705190399@freddiejustice.com
SUMMARY:SHOWCASE | MINNESOTA FEDERATION OF COUNTY FAIRS CONVENTION
DESCRIPTION:Must be a passholder at convention
URL:https://freddiejustice.com/event/showcase-minnesota-federation-of-county-fairs-convention/
LOCATION:MN
END:VEVENT
END:VCALENDAR